{"text_format":"3","workbook":"xlsx","n_sheets":4,"sheets":["型号","图片","订货单","发货单"],"not_rendered":{"images":11,"defined_names":2},"read":"whole","date_system":"1900"}

{"sheet":"型号","index":0,"n_rows":33,"n_cols":14,"rows_kept":33,"merged":[[0,3,4,13],[5,0,5,10]]}
[{"$nulls":3},"乐为美术积木 3C认证型号 商品名称 商品条码 订货号 包装尺寸 净重 毛重 粒数 颜色 建议零售价 玩具图片 装箱数 最小订量     销售建议关键词"]
[]
[]
[]
[]
[{"$nulls":11},"单位：人民币，元"]
["序号","玩具名称","3C认证型号","粒数","商品条码","订货号","包装尺寸毫米","包装体积立方米","净重   千克","毛重   千克","建议   零售价","玩具说明","玩具图片","销售建议关键词"]
[1,"乐为塑菱","LWSL-TE599","599粒",6953123800092,"00092","227*227*60",{"$f":"227*227*60/1000000000","v":{"v":0.00309174,"d":"0.00309"}},{"$f":"280/1000","v":{"v":0.28,"d":"0.280"}},{"$f":"475/1000","v":0.475},268,"乐为塑菱精品装",null,"高端商场，礼品，礼尚往来（送礼送聪明）"]
[2,"乐为塑菱","LWSL523","523粒",6953123852312,52312,"227*227*60",{"$f":"227*227*60/1000000000","v":{"v":0.00309174,"d":"0.00309"}},{"$f":"245/1000","v":0.245},{"$f":"450/1000","v":{"v":0.45,"d":"0.450"}},220,"乐为塑菱三合一包装",null,"高端商场，玩具礼品，多合一精品装，心灵手巧，礼尚往来（送礼送聪明）"]
[3,"乐为魔珠","LWMZ-XM500","500粒",6953123800108,"00108","227*227*60",{"$f":"227*227*60/1000000000","v":{"v":0.00309174,"d":"0.00309"}},{"$f":"447/1000","v":0.447},{"$f":"622/1000","v":0.622},228,"乐为魔珠精品装",null,"高端商场，礼品，礼尚往来（送礼送聪明）"]
[4,"乐为魔珠","LWMZ296","296粒",6953123829611,29611,"227*227*60",{"$f":"227*227*60/1000000000","v":{"v":0.00309174,"d":"0.00309"}},{"$f":"262/1000","v":0.262},{"$f":"450/1000","v":{"v":0.45,"d":"0.450"}},129,"乐为魔珠三合一包装",null,"高端商场，玩具礼品，多合一精品装，心灵手巧，礼尚往来（送礼送聪明）"]
[5,"乐为大魔珠","LWMZ253D","253粒",6953123825323,25323,"330*245*185",{"$f":"330*245*185/1000000000","v":{"v":0.01495725,"d":"0.01496"}},{"$f":"1349/1000","v":1.349},{"$f":"1899/1000","v":1.899},288,"乐为大魔珠三合一包装",null,"高端商场，玩具礼品，多合一精品装，心灵手巧，礼尚往来（送礼送聪明）"]
[6,"乐为大魔珠","LWMZ296D","296粒",6953123829628,29628,"330*245*185",{"$f":"330*245*185/1000000000","v":{"v":0.01495725,"d":"0.01496"}},{"$f":"1575/1000","v":1.575},{"$f":"2125/1000","v":2.125},318,"乐为大魔珠三合一包装",null,"高端商场，玩具礼品，多合一精品装，心灵手巧，礼尚往来（送礼送聪明）"]
[7,"乐为大魔珠","LWMZ332D","280粒",6953123833229,33229,"330*245*185",{"$f":"330*245*185/1000000000","v":{"v":0.01495725,"d":"0.01496"}},{"$f":"1496/1000","v":1.496},{"$f":"2046/1000","v":2.046},312,"乐为大魔珠三合一包装",null,"高端商场，玩具礼品，多合一精品装，心灵手巧，礼尚往来（送礼送聪明）"]
[8,"乐为大魔珠","LWMZ350D","329粒",6953123835025,35025,"330*245*185",{"$f":"330*245*185/1000000000","v":{"v":0.01495725,"d":"0.01496"}},{"$f":"1760/1000","v":{"v":1.76,"d":"1.760"}},{"$f":"2310/1000","v":{"v":2.31,"d":"2.310"}},350,"乐为大魔珠三合一包装",null,"高端商场，玩具礼品，多合一精品装，心灵手巧，礼尚往来（送礼送聪明）"]
[9,"乐为大魔珠","LWMZ1000D","1000粒",6953123810015,10015,"490*410*160",{"$f":"490*410*160/1000000000","v":{"v":0.032144,"d":"0.03214"}},5.365,6.225,800,"乐为大魔珠幼教装",null,"幼儿园，美术培训机构，心灵手巧，爱拼更聪明，互动更欢乐"]
[]
[]
[]
["顺颂商祺！欢迎联系！"]
[]
["厦门乐为坊玩具有限公司"]
["董事：林华龙 13328318872"]
["地址：厦门市思明区霞溪路138号之1单元"]
["邮编：361003"]
["电话：0592-2028610"]
["开户行：中国农业银行厦门思明支行"]
["账号：40342001040019452"]
["企业法人营业执照注册号：350203200212362"]
["组织机构代码证：69994564-8"]
["国税地税税务登记证：350203699945648"]
["电邮：toys@Loowi.com"]
["网址：www.Loowi.com"]

{"sheet":"图片","index":1,"n_rows":16,"n_cols":14,"rows_kept":16,"merged":[[0,3,4,13],[5,0,5,10]]}
[{"$nulls":3},"乐为美术玩具之3C认证型号、商品条码、包装尺寸重量、建议零售价、销售关键词"]
[]
[]
[]
[]
[{"$nulls":11},"单位：人民币，元"]
["序号","玩具名称","3C认证型号","粒数","商品条码","订货号","包装尺寸毫米","包装体积立方米","净重   千克","毛重   千克","建议   零售价","玩具说明","玩具图片","销售建议关键词"]
[1,"乐为塑菱","LWSL-TE599","599粒",6953123800092,"00092","227*227*60",{"$f":"227*227*60/1000000000","v":{"v":0.00309174,"d":"0.00309"}},{"$f":"280/1000","v":{"v":0.28,"d":"0.280"}},{"$f":"475/1000","v":0.475},268,"乐为塑菱精品装",null,"高端商场，礼品，礼尚往来（送礼送聪明）"]
[2,"乐为塑菱","LWSL523","523粒",6953123852312,52312,"227*227*60",{"$f":"227*227*60/1000000000","v":{"v":0.00309174,"d":"0.00309"}},{"$f":"245/1000","v":0.245},{"$f":"450/1000","v":{"v":0.45,"d":"0.450"}},220,"乐为塑菱三合一包装",null,"高端商场，玩具礼品，多合一精品装，心灵手巧，礼尚往来（送礼送聪明）"]
[1,"乐为魔珠","LWMZ-XM500","500粒",6953123800108,"00108","227*227*60",{"$f":"227*227*60/1000000000","v":{"v":0.00309174,"d":"0.00309"}},{"$f":"447/1000","v":0.447},{"$f":"622/1000","v":0.622},228,"乐为魔珠精品装",null,"高端商场，礼品，礼尚往来（送礼送聪明）"]
[2,"乐为魔珠","LWMZ296","296粒",6953123829611,29611,"227*227*60",{"$f":"227*227*60/1000000000","v":{"v":0.00309174,"d":"0.00309"}},{"$f":"262/1000","v":0.262},{"$f":"450/1000","v":{"v":0.45,"d":"0.450"}},129,"乐为魔珠三合一包装",null,"高端商场，玩具礼品，多合一精品装，心灵手巧，礼尚往来（送礼送聪明）"]
[3,"乐为大魔珠","LWMZ253D","253粒",6953123825323,25323,"330*245*185",{"$f":"330*245*185/1000000000","v":{"v":0.01495725,"d":"0.01496"}},{"$f":"1349/1000","v":1.349},{"$f":"1899/1000","v":1.899},288,"乐为大魔珠三合一包装",null,"高端商场，玩具礼品，多合一精品装，心灵手巧，礼尚往来（送礼送聪明）"]
[4,"乐为大魔珠","LWMZ296D","296粒",6953123829628,29628,"330*245*185",{"$f":"330*245*185/1000000000","v":{"v":0.01495725,"d":"0.01496"}},{"$f":"1575/1000","v":1.575},{"$f":"2125/1000","v":2.125},318,"乐为大魔珠三合一包装",null,"高端商场，玩具礼品，多合一精品装，心灵手巧，礼尚往来（送礼送聪明）"]
[5,"乐为大魔珠","LWMZ332D","280粒",6953123833229,33229,"330*245*185",{"$f":"330*245*185/1000000000","v":{"v":0.01495725,"d":"0.01496"}},{"$f":"1496/1000","v":1.496},{"$f":"2046/1000","v":2.046},312,"乐为大魔珠三合一包装",null,"高端商场，玩具礼品，多合一精品装，心灵手巧，礼尚往来（送礼送聪明）"]
[6,"乐为大魔珠","LWMZ350D","329粒",6953123835025,35025,"330*245*185",{"$f":"330*245*185/1000000000","v":{"v":0.01495725,"d":"0.01496"}},{"$f":"1760/1000","v":{"v":1.76,"d":"1.760"}},{"$f":"2310/1000","v":{"v":2.31,"d":"2.310"}},350,"乐为大魔珠三合一包装",null,"高端商场，玩具礼品，多合一精品装，心灵手巧，礼尚往来（送礼送聪明）"]
[7,"乐为大魔珠","LWMZ1000D","1000粒",6953123810015,10015,"490*410*160",{"$f":"490*410*160/1000000000","v":{"v":0.032144,"d":"0.03214"}},5.365,6.225,800,"乐为大魔珠幼教装",null,"幼儿园，美术培训机构，心灵手巧，爱拼更聪明，互动更欢乐"]

{"sheet":"订货单","index":2,"n_rows":38,"n_cols":15,"rows_kept":38,"merged":[[0,4,1,11],[25,13,25,14],[36,2,36,4]]}
[{"$nulls":4},"厦门乐为坊玩具有限公司"]
[]
[{"$nulls":11},"订货单"]
[{"$nulls":3},"买方：",{"$f":"C19","v":0}]
[{"$nulls":3},"日期：","YYYYMMDD"]
[]
["1、买方盖章确认订单，传真到0592-2028610（自动接收）；卖方盖章确认订单，回传给买方。"]
["2、买方付款到卖方对公账户：www.Loowi.com/caiwu，卖方发货。"]
["3、本订货单按___折计算。"]
["4、首次订货，如不适销，卖方接受全部退换货；第二次订货起，卖方接受一半退换货。买方负责运费。"]
["5、乐为美术积木热销型号图文资料，详见网页：www.Loowi.com/rexiao"]
["6、买方未经卖方书面授权许可，不得擅自在淘宝等网店销售乐为美术积木。"]
[]
[null,"包装体积：",{"$f":"N38","v":0.003231},"立方米","输入盒数后，表格将自动计算出总体积"]
[null,"毛重：",{"$f":"O38","v":0.845},"千克","输入盒数后，表格将自动计算出总毛重"]
[null,"物流费用：",null,"元","█到付  █自提"]
[]
[null,"签字/盖章",{"$nulls":4},"签字/盖章"]
[null,"买方：",{"$nulls":4},"卖方：厦门乐为坊玩具有限公司",{"$nulls":6},"计算物流毛重体积，需要用到的数据："]
[null,"经办：",{"$nulls":4},"经办：林华龙 13328318872",{"$nulls":6},"乐为标准纸箱，490*410*260毫米，纸箱重量0.77千克"]
[null,"腾讯QQ：",{"$nulls":4},"腾讯：QQ 200928610",{"$nulls":6},"乐为桶装纸箱，675*505*215毫米，纸箱重量0.89千克"]
[null,"传真：",{"$nulls":4},"传真：0592.2028610"]
[null,"电邮：",{"$nulls":4},"电邮：toys@Loowi.com"]
[null,"地址：",{"$nulls":4},"地址：厦门市思明区霞溪路138号之1单元"]
[]
[{"$nulls":11},"单位：人民币，元",null,"此两列自动计算体积毛重"]
[{"$f":"型号!A7","v":"序号"},{"$f":"型号!B7","v":"玩具名称"},{"$f":"型号!C7","v":"3C认证型号"},{"$f":"型号!F7","v":"订货号"},{"$f":"型号!G7","v":"包装尺寸毫米"},"包装体积立方米",{"$f":"型号!J7","v":"毛重   千克"},{"$f":"型号!K7","v":"建议   零售价"},"供货折扣","供货价","件数","小计",null,"体积小计","毛重小计"]
[{"$f":"型号!A8","v":1},{"$f":"型号!B8","v":"乐为塑菱"},{"$f":"型号!C8","v":"LWSL-TE599"},{"$f":"型号!F8","v":"00092"},{"$f":"型号!G8","v":"227*227*60"},{"$f":"型号!H8","v":{"v":0.00309174,"d":"0.0031"}},{"$f":"型号!J8","v":0.475},{"$f":"型号!K8","v":268},null,{"$f":"H28*I28","v":0},null,{"$f":"J28*K28","v":0},null,{"$f":"F28*K28","v":0},{"$f":"G28*K28","v":0}]
[{"$f":"型号!A9","v":2},{"$f":"型号!B9","v":"乐为塑菱"},{"$f":"型号!C9","v":"LWSL523"},{"$f":"型号!F9","v":52312},{"$f":"型号!G9","v":"227*227*60"},{"$f":"型号!H9","v":{"v":0.00309174,"d":"0.0031"}},{"$f":"型号!J9","v":{"v":0.45,"d":"0.450"}},{"$f":"型号!K9","v":220},null,{"$f":"H29*I29","v":0},null,{"$f":"J29*K29","v":0},null,{"$f":"F29*K29","v":0},{"$f":"G29*K29","v":0}]
[{"$f":"型号!A10","v":3},{"$f":"型号!B10","v":"乐为魔珠"},{"$f":"型号!C10","v":"LWMZ-XM500"},{"$f":"型号!F10","v":"00108"},{"$f":"型号!G10","v":"227*227*60"},{"$f":"型号!H10","v":{"v":0.00309174,"d":"0.0031"}},{"$f":"型号!J10","v":0.622},{"$f":"型号!K10","v":228},null,{"$f":"H30*I30","v":0},null,{"$f":"J30*K30","v":0},null,{"$f":"F30*K30","v":0},{"$f":"G30*K30","v":0}]
[{"$f":"型号!A11","v":4},{"$f":"型号!B11","v":"乐为魔珠"},{"$f":"型号!C11","v":"LWMZ296"},{"$f":"型号!F11","v":29611},{"$f":"型号!G11","v":"227*227*60"},{"$f":"型号!H11","v":{"v":0.00309174,"d":"0.0031"}},{"$f":"型号!J11","v":{"v":0.45,"d":"0.450"}},{"$f":"型号!K11","v":129},null,{"$f":"H31*I31","v":0},null,{"$f":"J31*K31","v":0},null,{"$f":"F31*K31","v":0},{"$f":"G31*K31","v":0}]
[{"$f":"型号!A12","v":5},{"$f":"型号!B12","v":"乐为大魔珠"},{"$f":"型号!C12","v":"LWMZ253D"},{"$f":"型号!F12","v":25323},{"$f":"型号!G12","v":"330*245*185"},{"$f":"型号!H12","v":{"v":0.01495725,"d":"0.0150"}},{"$f":"型号!J12","v":1.899},{"$f":"型号!K12","v":288},null,{"$f":"H32*I32","v":0},null,{"$f":"J32*K32","v":0},null,{"$f":"F32*K32","v":0},{"$f":"G32*K32","v":0}]
[{"$f":"型号!A13","v":6},{"$f":"型号!B13","v":"乐为大魔珠"},{"$f":"型号!C13","v":"LWMZ296D"},{"$f":"型号!F13","v":29628},{"$f":"型号!G13","v":"330*245*185"},{"$f":"型号!H13","v":{"v":0.01495725,"d":"0.0150"}},{"$f":"型号!J13","v":2.125},{"$f":"型号!K13","v":318},null,{"$f":"H33*I33","v":0},null,{"$f":"J33*K33","v":0},null,{"$f":"F33*K33","v":0},{"$f":"G33*K33","v":0}]
[{"$f":"型号!A14","v":7},{"$f":"型号!B14","v":"乐为大魔珠"},{"$f":"型号!C14","v":"LWMZ332D"},{"$f":"型号!F14","v":33229},{"$f":"型号!G14","v":"330*245*185"},{"$f":"型号!H14","v":{"v":0.01495725,"d":"0.0150"}},{"$f":"型号!J14","v":2.046},{"$f":"型号!K14","v":312},null,{"$f":"H34*I34","v":0},null,{"$f":"J34*K34","v":0},null,{"$f":"F34*K34","v":0},{"$f":"G34*K34","v":0}]
[{"$f":"型号!A15","v":8},{"$f":"型号!B15","v":"乐为大魔珠"},{"$f":"型号!C15","v":"LWMZ350D"},{"$f":"型号!F15","v":35025},{"$f":"型号!G15","v":"330*245*185"},{"$f":"型号!H15","v":{"v":0.01495725,"d":"0.0150"}},{"$f":"型号!J15","v":{"v":2.31,"d":"2.310"}},{"$f":"型号!K15","v":350},null,{"$f":"H35*I35","v":0},null,{"$f":"J35*K35","v":0},null,{"$f":"F35*K35","v":0},{"$f":"G35*K35","v":0}]
[{"$f":"型号!A16","v":9},{"$f":"型号!B16","v":"乐为大魔珠"},{"$f":"型号!C16","v":"LWMZ1000D"},{"$f":"型号!F16","v":10015},{"$f":"型号!G16","v":"490*410*160"},{"$f":"型号!H16","v":{"v":0.032144,"d":"0.0321"}},{"$f":"型号!J16","v":6.225},{"$f":"型号!K16","v":800},null,{"$f":"H36*I36","v":0},null,{"$f":"J36*K36","v":0},null,{"$f":"F36*K36","v":0},{"$f":"G36*K36","v":0}]
[10,"乐为样品包","www.Loowi.com/yangpin",null,null,{"v":0.003231,"d":"0.0032"},0.845,null,null,116,1,{"$f":"J37","v":116},null,{"$f":"F37*K37","v":0.003231},{"$f":"G37*K37","v":0.845}]
[{"$nulls":10},"人民币合计：",{"$f":"SUM(L28:L37)","v":116},null,{"$f":"SUM(N28:N37)","v":0.003231},{"$f":"SUM(O28:O37)","v":0.845}]

{"sheet":"发货单","index":3,"n_rows":26,"n_cols":17,"rows_kept":26,"merged":[[4,3,4,4],[4,9,4,10],[4,15,4,16]]}
[{"$nulls":4},"厦门乐为坊玩具有限公司",{"$nulls":5},"厦门乐为坊玩具有限公司",{"$nulls":5},"厦门乐为坊玩具有限公司"]
[]
[{"$nulls":4},"发货单",{"$nulls":5},"发货单",{"$nulls":5},"发货单"]
[]
[null,null,"日期：",{"$f":"订货单!E5","v":"YYYYMMDD"},{"$nulls":4},"日期：",{"$f":"D5","v":"YYYYMMDD"},{"$nulls":4},"日期：",{"$f":"D5","v":"YYYYMMDD"}]
["买方：",{"$f":"订货单!C19","v":0},null,null,"卖方留存联",null,{"$f":"A6","v":"买方："},{"$f":"B6","v":0},null,null,"仓储留存联",null,{"$f":"A6","v":"买方："},{"$f":"B6","v":0},null,null,"买方留存联"]
[{"$f":"型号!A7","v":"序号"},{"$f":"型号!B7","v":"玩具名称"},{"$f":"型号!C7","v":"3C认证型号"},{"$f":"型号!F7","v":"订货号"},"件数",null,{"$f":"A7","v":"序号"},{"$f":"B7","v":"玩具名称"},{"$f":"C7","v":"3C认证型号"},{"$f":"D7","v":"订货号"},{"$f":"E7","v":"件数"},null,{"$f":"G7","v":"序号"},{"$f":"H7","v":"玩具名称"},{"$f":"I7","v":"3C认证型号"},{"$f":"J7","v":"订货号"},{"$f":"K7","v":"件数"}]
[{"$f":"型号!A8","v":1},{"$f":"型号!B8","v":"乐为塑菱"},{"$f":"型号!C8","v":"LWSL-TE599"},{"$f":"型号!F8","v":"00092"},{"$f":"订货单!K28","v":0},null,{"$f":"A8","v":1},{"$f":"B8","v":"乐为塑菱"},{"$f":"C8","v":"LWSL-TE599"},{"$f":"D8","v":"00092"},{"$f":"E8","v":0},null,{"$f":"G8","v":1},{"$f":"H8","v":"乐为塑菱"},{"$f":"I8","v":"LWSL-TE599"},{"$f":"J8","v":"00092"},{"$f":"E8","v":0}]
[{"$f":"型号!A9","v":2},{"$f":"型号!B9","v":"乐为塑菱"},{"$f":"型号!C9","v":"LWSL523"},{"$f":"型号!F9","v":52312},{"$f":"订货单!K29","v":0},null,{"$f":"A9","v":2},{"$f":"B9","v":"乐为塑菱"},{"$f":"C9","v":"LWSL523"},{"$f":"D9","v":52312},{"$f":"E9","v":0},null,{"$f":"G9","v":2},{"$f":"H9","v":"乐为塑菱"},{"$f":"I9","v":"LWSL523"},{"$f":"J9","v":52312},{"$f":"E9","v":0}]
[{"$f":"型号!A10","v":3},{"$f":"型号!B10","v":"乐为魔珠"},{"$f":"型号!C10","v":"LWMZ-XM500"},{"$f":"型号!F10","v":"00108"},{"$f":"订货单!K30","v":0},null,{"$f":"A10","v":3},{"$f":"B10","v":"乐为魔珠"},{"$f":"C10","v":"LWMZ-XM500"},{"$f":"D10","v":"00108"},{"$f":"E10","v":0},null,{"$f":"G10","v":3},{"$f":"H10","v":"乐为魔珠"},{"$f":"I10","v":"LWMZ-XM500"},{"$f":"J10","v":"00108"},{"$f":"E10","v":0}]
[{"$f":"型号!A11","v":4},{"$f":"型号!B11","v":"乐为魔珠"},{"$f":"型号!C11","v":"LWMZ296"},{"$f":"型号!F11","v":29611},{"$f":"订货单!K31","v":0},null,{"$f":"A11","v":4},{"$f":"B11","v":"乐为魔珠"},{"$f":"C11","v":"LWMZ296"},{"$f":"D11","v":29611},{"$f":"E11","v":0},null,{"$f":"G11","v":4},{"$f":"H11","v":"乐为魔珠"},{"$f":"I11","v":"LWMZ296"},{"$f":"J11","v":29611},{"$f":"E11","v":0}]
[{"$f":"型号!A12","v":5},{"$f":"型号!B12","v":"乐为大魔珠"},{"$f":"型号!C12","v":"LWMZ253D"},{"$f":"型号!F12","v":25323},{"$f":"订货单!K32","v":0},null,{"$f":"A12","v":5},{"$f":"B12","v":"乐为大魔珠"},{"$f":"C12","v":"LWMZ253D"},{"$f":"D12","v":25323},{"$f":"E12","v":0},null,{"$f":"G12","v":5},{"$f":"H12","v":"乐为大魔珠"},{"$f":"I12","v":"LWMZ253D"},{"$f":"J12","v":25323},{"$f":"E12","v":0}]
[{"$f":"型号!A13","v":6},{"$f":"型号!B13","v":"乐为大魔珠"},{"$f":"型号!C13","v":"LWMZ296D"},{"$f":"型号!F13","v":29628},{"$f":"订货单!K33","v":0},null,{"$f":"A13","v":6},{"$f":"B13","v":"乐为大魔珠"},{"$f":"C13","v":"LWMZ296D"},{"$f":"D13","v":29628},{"$f":"E13","v":0},null,{"$f":"G13","v":6},{"$f":"H13","v":"乐为大魔珠"},{"$f":"I13","v":"LWMZ296D"},{"$f":"J13","v":29628},{"$f":"E13","v":0}]
[{"$f":"型号!A14","v":7},{"$f":"型号!B14","v":"乐为大魔珠"},{"$f":"型号!C14","v":"LWMZ332D"},{"$f":"型号!F14","v":33229},{"$f":"订货单!K34","v":0},null,{"$f":"A14","v":7},{"$f":"B14","v":"乐为大魔珠"},{"$f":"C14","v":"LWMZ332D"},{"$f":"D14","v":33229},{"$f":"E14","v":0},null,{"$f":"G14","v":7},{"$f":"H14","v":"乐为大魔珠"},{"$f":"I14","v":"LWMZ332D"},{"$f":"J14","v":33229},{"$f":"E14","v":0}]
[{"$f":"型号!A15","v":8},{"$f":"型号!B15","v":"乐为大魔珠"},{"$f":"型号!C15","v":"LWMZ350D"},{"$f":"型号!F15","v":35025},{"$f":"订货单!K35","v":0},null,{"$f":"A15","v":8},{"$f":"B15","v":"乐为大魔珠"},{"$f":"C15","v":"LWMZ350D"},{"$f":"D15","v":35025},{"$f":"E15","v":0},null,{"$f":"G15","v":8},{"$f":"H15","v":"乐为大魔珠"},{"$f":"I15","v":"LWMZ350D"},{"$f":"J15","v":35025},{"$f":"E15","v":0}]
[{"$f":"型号!A16","v":9},{"$f":"型号!B16","v":"乐为大魔珠"},{"$f":"型号!C16","v":"LWMZ1000D"},{"$f":"型号!F16","v":10015},{"$f":"订货单!K36","v":0},null,{"$f":"A16","v":9},{"$f":"B16","v":"乐为大魔珠"},{"$f":"C16","v":"LWMZ1000D"},{"$f":"D16","v":10015},{"$f":"E16","v":0},null,{"$f":"G16","v":9},{"$f":"H16","v":"乐为大魔珠"},{"$f":"I16","v":"LWMZ1000D"},{"$f":"J16","v":10015},{"$f":"E16","v":0}]
[10,"乐为样品包",null,null,1,null,{"$f":"A17","v":10},{"$f":"B17","v":"乐为样品包"},null,null,{"$f":"E17","v":1},null,{"$f":"G17","v":10},{"$f":"H17","v":"乐为样品包"},null,null,{"$f":"K17","v":1}]
[{"$nulls":3},"总计：",{"$f":"SUM(E8:E17)","v":1},{"$nulls":4},"总计：",{"$f":"SUM(K8:K17)","v":1},{"$nulls":4},"总计：",{"$f":"SUM(Q8:Q17)","v":1}]
[]
[null,"卖方业务：","卖方批准：",{"$nulls":4},"卖方仓库：",{"$nulls":5},"买方采购："]
[null,"卖方财务：",{"$nulls":6},"买方签收：",{"$nulls":4},"买方仓库：","买方财务："]
[]
[null,"收货人：",{"$f":"订货单!C20","v":0}]
[null,"收货公司：",{"$f":"订货单!C19","v":0}]
[null,"收货地址：",{"$f":"订货单!C24","v":0}]
[null,"物流说明：","默认德邦物流，到付，自提"]